BEGIN:VCALENDAR
VERSION:2.0
PRODID:www.hbbond.nl
X-WR-TIMEZONE:Europe/Amsterdam
BEGIN:VTIMEZONE
TZID:Europe/Amsterdam
X-LIC-LOCATION:Europe/Amsterdam
BEGIN:DAYLIGHT
TZNAME:CEST
TZOFFSETFROM:+0100
TZOFFSETTO:+0200
DTSTART:19810329T030000
RRULE:FREQ=YEARLY;INTERVAL=1;BYMONTH=3;BYDAY=-1SU
END:DAYLIGHT
BEGIN:STANDARD
TZNAME:CET
TZOFFSETFROM:+0200
TZOFFSETTO:+0100
DTSTART:19961027T030000
RRULE:FREQ=YEARLY;INTERVAL=1;BYMONTH=10;BYDAY=-1SU
END:STANDARD
END:VTIMEZONE
BEGIN:VEVENT
UID:69e939f59fb5f
DTSTART:20221002T073000Z
SEQUENCE:0
TRANSP:OPAQUE
DTEND:20221002T091500Z
LOCATION:Scheepsboulevard 2\, Helmond
SUMMARY:Mixed 3 - RBC 1
CLASS:PUBLIC
DESCRIPTION:Baan 13  Wedstrijdnr 9
CATEGORIES:badmintoncompetitie
DTSTAMP:20260422T231325Z
END:VEVENT
BEGIN:VEVENT
UID:69e939f5a0533
DTSTART:20221009T073000Z
SEQUENCE:0
TRANSP:OPAQUE
DTEND:20221009T091500Z
LOCATION:Scheepsboulevard 2\, Helmond
SUMMARY:Brabantia 2 - RBC 1
CLASS:PUBLIC
DESCRIPTION:Baan 10  Wedstrijdnr 17
CATEGORIES:badmintoncompetitie
DTSTAMP:20260422T231325Z
END:VEVENT
BEGIN:VEVENT
UID:69e939f5a08ac
DTSTART:20221016T073000Z
SEQUENCE:0
TRANSP:OPAQUE
DTEND:20221016T091500Z
LOCATION:Scheepsboulevard 2\, Helmond
SUMMARY:RBC 1 - Con Brio 1
CLASS:PUBLIC
DESCRIPTION:Baan 4  Wedstrijdnr 26
CATEGORIES:badmintoncompetitie
DTSTAMP:20260422T231325Z
END:VEVENT
BEGIN:VEVENT
UID:69e939f5a0c01
DTSTART:20221106T083000Z
SEQUENCE:0
TRANSP:OPAQUE
DTEND:20221106T101500Z
LOCATION:Scheepsboulevard 2\, Helmond
SUMMARY:RBC 1 - Mixed 3
CLASS:PUBLIC
DESCRIPTION:Baan 15  Wedstrijdnr 44
CATEGORIES:badmintoncompetitie
DTSTAMP:20260422T231325Z
END:VEVENT
BEGIN:VEVENT
UID:69e939f5a0f9f
DTSTART:20221120T083000Z
SEQUENCE:0
TRANSP:OPAQUE
DTEND:20221120T101500Z
LOCATION:Scheepsboulevard 2\, Helmond
SUMMARY:RBC 1 - Brabantia 2
CLASS:PUBLIC
DESCRIPTION:Baan 11  Wedstrijdnr 60
CATEGORIES:badmintoncompetitie
DTSTAMP:20260422T231325Z
END:VEVENT
BEGIN:VEVENT
UID:69e939f5a1313
DTSTART:20221127T083000Z
SEQUENCE:0
TRANSP:OPAQUE
DTEND:20221127T101500Z
LOCATION:Scheepsboulevard 2\, Helmond
SUMMARY:Con Brio 1 - RBC 1
CLASS:PUBLIC
DESCRIPTION:Baan 11  Wedstrijdnr 70
CATEGORIES:badmintoncompetitie
DTSTAMP:20260422T231325Z
END:VEVENT
END:VCALENDAR