BEGIN:VCALENDAR
VERSION:2.0
PRODID:www.hbbond.nl
X-WR-TIMEZONE:Europe/Amsterdam
BEGIN:VTIMEZONE
TZID:Europe/Amsterdam
X-LIC-LOCATION:Europe/Amsterdam
BEGIN:DAYLIGHT
TZNAME:CEST
TZOFFSETFROM:+0100
TZOFFSETTO:+0200
DTSTART:19810329T030000
RRULE:FREQ=YEARLY;INTERVAL=1;BYMONTH=3;BYDAY=-1SU
END:DAYLIGHT
BEGIN:STANDARD
TZNAME:CET
TZOFFSETFROM:+0200
TZOFFSETTO:+0100
DTSTART:19961027T030000
RRULE:FREQ=YEARLY;INTERVAL=1;BYMONTH=10;BYDAY=-1SU
END:STANDARD
END:VTIMEZONE
BEGIN:VEVENT
UID:69e9528442b95
DTSTART:20221009T073000Z
SEQUENCE:0
TRANSP:OPAQUE
DTEND:20221009T091500Z
LOCATION:Scheepsboulevard 2\, Helmond
SUMMARY:RBC 2 - VBSC 1
CLASS:PUBLIC
DESCRIPTION:Baan 3  Wedstrijdnr 14
CATEGORIES:badmintoncompetitie
DTSTAMP:20260423T005812Z
END:VEVENT
BEGIN:VEVENT
UID:69e9528443527
DTSTART:20221016T073000Z
SEQUENCE:0
TRANSP:OPAQUE
DTEND:20221016T091500Z
LOCATION:Scheepsboulevard 2\, Helmond
SUMMARY:Mixed 6 - RBC 2
CLASS:PUBLIC
DESCRIPTION:Baan 14  Wedstrijdnr 32
CATEGORIES:badmintoncompetitie
DTSTAMP:20260423T005812Z
END:VEVENT
BEGIN:VEVENT
UID:69e95284438be
DTSTART:20221120T083000Z
SEQUENCE:0
TRANSP:OPAQUE
DTEND:20221120T101500Z
LOCATION:Scheepsboulevard 2\, Helmond
SUMMARY:RBC 2 - Mierlo 5
CLASS:PUBLIC
DESCRIPTION:Baan 1  Wedstrijdnr 55
CATEGORIES:badmintoncompetitie
DTSTAMP:20260423T005812Z
END:VEVENT
BEGIN:VEVENT
UID:69e9528443c19
DTSTART:20221127T083000Z
SEQUENCE:0
TRANSP:OPAQUE
DTEND:20221127T101500Z
LOCATION:Scheepsboulevard 2\, Helmond
SUMMARY:VBSC 1 - RBC 2
CLASS:PUBLIC
DESCRIPTION:Baan 2  Wedstrijdnr 66
CATEGORIES:badmintoncompetitie
DTSTAMP:20260423T005812Z
END:VEVENT
BEGIN:VEVENT
UID:69e9528443ef4
DTSTART:20221211T083000Z
SEQUENCE:0
TRANSP:OPAQUE
DTEND:20221211T101500Z
LOCATION:Scheepsboulevard 2\, Helmond
SUMMARY:RBC 2 - Mixed 6
CLASS:PUBLIC
DESCRIPTION:Baan 1  Wedstrijdnr 75
CATEGORIES:badmintoncompetitie
DTSTAMP:20260423T005812Z
END:VEVENT
BEGIN:VEVENT
UID:69e95284441cf
DTSTART:20221218T083000Z
SEQUENCE:0
TRANSP:OPAQUE
DTEND:20221218T101500Z
LOCATION:Scheepsboulevard 2\, Helmond
SUMMARY:Mierlo 5 - RBC 2
CLASS:PUBLIC
DESCRIPTION:Baan 12  Wedstrijdnr 91
CATEGORIES:badmintoncompetitie
DTSTAMP:20260423T005812Z
END:VEVENT
END:VCALENDAR