BEGIN:VCALENDAR
VERSION:2.0
PRODID:www.hbbond.nl
X-WR-TIMEZONE:Europe/Amsterdam
BEGIN:VTIMEZONE
TZID:Europe/Amsterdam
X-LIC-LOCATION:Europe/Amsterdam
BEGIN:DAYLIGHT
TZNAME:CEST
TZOFFSETFROM:+0100
TZOFFSETTO:+0200
DTSTART:19810329T030000
RRULE:FREQ=YEARLY;INTERVAL=1;BYMONTH=3;BYDAY=-1SU
END:DAYLIGHT
BEGIN:STANDARD
TZNAME:CET
TZOFFSETFROM:+0200
TZOFFSETTO:+0100
DTSTART:19961027T030000
RRULE:FREQ=YEARLY;INTERVAL=1;BYMONTH=10;BYDAY=-1SU
END:STANDARD
END:VTIMEZONE
BEGIN:VEVENT
UID:69e4ce984d4e4
DTSTART:20210929T180000Z
SEQUENCE:0
TRANSP:OPAQUE
DTEND:20210929T210000Z
LOCATION:Scheepsboulevard 2\, Helmond
SUMMARY:Gemert 2 - RBC 2
CLASS:PUBLIC
DESCRIPTION:Baan 14  Wedstrijdnr 153
CATEGORIES:badmintoncompetitie
DTSTAMP:20260419T144616Z
END:VEVENT
BEGIN:VEVENT
UID:69e4ce984e5d4
DTSTART:20211014T180000Z
SEQUENCE:0
TRANSP:OPAQUE
DTEND:20211014T210000Z
LOCATION:Scheepsboulevard 2\, Helmond
SUMMARY:RBC 2 - Geldrop 3
CLASS:PUBLIC
DESCRIPTION:Baan 2  Wedstrijdnr 156
CATEGORIES:badmintoncompetitie
DTSTAMP:20260419T144616Z
END:VEVENT
BEGIN:VEVENT
UID:69e4ce984eba2
DTSTART:20211021T180000Z
SEQUENCE:0
TRANSP:OPAQUE
DTEND:20211021T210000Z
LOCATION:Scheepsboulevard 2\, Helmond
SUMMARY:RBC 2 - Never Down 1
CLASS:PUBLIC
DESCRIPTION:Baan 13  Wedstrijdnr 161
CATEGORIES:badmintoncompetitie
DTSTAMP:20260419T144616Z
END:VEVENT
BEGIN:VEVENT
UID:69e4ce984f0e3
DTSTART:20211111T190000Z
SEQUENCE:0
TRANSP:OPAQUE
DTEND:20211111T220000Z
LOCATION:Scheepsboulevard 2\, Helmond
SUMMARY:RBC 2 - Hanevoet 3
CLASS:PUBLIC
DESCRIPTION:Baan 4  Wedstrijdnr 166
CATEGORIES:badmintoncompetitie
DTSTAMP:20260419T144616Z
END:VEVENT
BEGIN:VEVENT
UID:69e4ce984f677
DTSTART:20211125T190000Z
SEQUENCE:0
TRANSP:OPAQUE
DTEND:20211125T220000Z
LOCATION:Scheepsboulevard 2\, Helmond
SUMMARY:Never Down 1 - RBC 2
CLASS:PUBLIC
DESCRIPTION:Baan 3  Wedstrijdnr 2025
CATEGORIES:badmintoncompetitie
DTSTAMP:20260419T144616Z
END:VEVENT
BEGIN:VEVENT
UID:69e4ce984fb8b
DTSTART:20220210T190000Z
SEQUENCE:0
TRANSP:OPAQUE
DTEND:20220210T220000Z
LOCATION:Scheepsboulevard 2\, Helmond
SUMMARY:RBC 2 - ASML 2
CLASS:PUBLIC
DESCRIPTION:Baan 1  Wedstrijdnr 171
CATEGORIES:badmintoncompetitie
DTSTAMP:20260419T144616Z
END:VEVENT
BEGIN:VEVENT
UID:69e4ce985009b
DTSTART:20220216T190000Z
SEQUENCE:0
TRANSP:OPAQUE
DTEND:20220216T220000Z
LOCATION:Scheepsboulevard 2\, Helmond
SUMMARY:Rudra 2 - RBC 2
CLASS:PUBLIC
DESCRIPTION:Baan 14  Wedstrijdnr 175
CATEGORIES:badmintoncompetitie
DTSTAMP:20260419T144616Z
END:VEVENT
BEGIN:VEVENT
UID:69e4ce9850658
DTSTART:20220310T190000Z
SEQUENCE:0
TRANSP:OPAQUE
DTEND:20220310T220000Z
LOCATION:Scheepsboulevard 2\, Helmond
SUMMARY:Heiakker 1 - RBC 2
CLASS:PUBLIC
DESCRIPTION:Baan 2  Wedstrijdnr 178
CATEGORIES:badmintoncompetitie
DTSTAMP:20260419T144616Z
END:VEVENT
BEGIN:VEVENT
UID:69e4ce9850c39
DTSTART:20220317T190000Z
SEQUENCE:0
TRANSP:OPAQUE
DTEND:20220317T220000Z
LOCATION:Scheepsboulevard 2\, Helmond
SUMMARY:RBC 2 - Gemert 2
CLASS:PUBLIC
DESCRIPTION:Baan 12  Wedstrijdnr 1153
CATEGORIES:badmintoncompetitie
DTSTAMP:20260419T144616Z
END:VEVENT
BEGIN:VEVENT
UID:69e4ce985112c
DTSTART:20220406T180000Z
SEQUENCE:0
TRANSP:OPAQUE
DTEND:20220406T210000Z
LOCATION:Scheepsboulevard 2\, Helmond
SUMMARY:Geldrop 3 - RBC 2
CLASS:PUBLIC
DESCRIPTION:Baan 1  Wedstrijdnr 1156
CATEGORIES:badmintoncompetitie
DTSTAMP:20260419T144616Z
END:VEVENT
BEGIN:VEVENT
UID:69e4ce9851649
DTSTART:20220414T180000Z
SEQUENCE:0
TRANSP:OPAQUE
DTEND:20220414T210000Z
LOCATION:Scheepsboulevard 2\, Helmond
SUMMARY:Never Down 1 - RBC 2
CLASS:PUBLIC
DESCRIPTION:Baan 5  Wedstrijdnr 1161
CATEGORIES:badmintoncompetitie
DTSTAMP:20260419T144616Z
END:VEVENT
BEGIN:VEVENT
UID:69e4ce9851b27
DTSTART:20220421T180000Z
SEQUENCE:0
TRANSP:OPAQUE
DTEND:20220421T210000Z
LOCATION:Scheepsboulevard 2\, Helmond
SUMMARY:Hanevoet 3 - RBC 2
CLASS:PUBLIC
DESCRIPTION:Baan 11  Wedstrijdnr 1166
CATEGORIES:badmintoncompetitie
DTSTAMP:20260419T144616Z
END:VEVENT
BEGIN:VEVENT
UID:69e4ce985201c
DTSTART:20220602T180000Z
SEQUENCE:0
TRANSP:OPAQUE
DTEND:20220602T210000Z
LOCATION:Scheepsboulevard 2\, Helmond
SUMMARY:ASML 2 - RBC 2
CLASS:PUBLIC
DESCRIPTION:Baan 5  Wedstrijdnr 1171
CATEGORIES:badmintoncompetitie
DTSTAMP:20260419T144616Z
END:VEVENT
BEGIN:VEVENT
UID:69e4ce985260b
DTSTART:20220609T180000Z
SEQUENCE:0
TRANSP:OPAQUE
DTEND:20220609T210000Z
LOCATION:Scheepsboulevard 2\, Helmond
SUMMARY:RBC 2 - Rudra 2
CLASS:PUBLIC
DESCRIPTION:Baan 15  Wedstrijdnr 1175
CATEGORIES:badmintoncompetitie
DTSTAMP:20260419T144616Z
END:VEVENT
BEGIN:VEVENT
UID:69e4ce9852c82
DTSTART:20220623T180000Z
SEQUENCE:0
TRANSP:OPAQUE
DTEND:20220623T210000Z
LOCATION:Scheepsboulevard 2\, Helmond
SUMMARY:RBC 2 - Heiakker 1
CLASS:PUBLIC
DESCRIPTION:Baan 13  Wedstrijdnr 1178
CATEGORIES:badmintoncompetitie
DTSTAMP:20260419T144616Z
END:VEVENT
END:VCALENDAR