BEGIN:VCALENDAR
VERSION:2.0
PRODID:www.hbbond.nl
X-WR-TIMEZONE:Europe/Amsterdam
BEGIN:VTIMEZONE
TZID:Europe/Amsterdam
X-LIC-LOCATION:Europe/Amsterdam
BEGIN:DAYLIGHT
TZNAME:CEST
TZOFFSETFROM:+0100
TZOFFSETTO:+0200
DTSTART:19810329T030000
RRULE:FREQ=YEARLY;INTERVAL=1;BYMONTH=3;BYDAY=-1SU
END:DAYLIGHT
BEGIN:STANDARD
TZNAME:CET
TZOFFSETFROM:+0200
TZOFFSETTO:+0100
DTSTART:19961027T030000
RRULE:FREQ=YEARLY;INTERVAL=1;BYMONTH=10;BYDAY=-1SU
END:STANDARD
END:VTIMEZONE
BEGIN:VEVENT
UID:69e4ce8fb3ffb
DTSTART:20211006T180000Z
SEQUENCE:0
TRANSP:OPAQUE
DTEND:20211006T210000Z
LOCATION:Scheepsboulevard 2\, Helmond
SUMMARY:De Valken 4 - Mixed 6
CLASS:PUBLIC
DESCRIPTION:Baan 4  Wedstrijdnr 180
CATEGORIES:badmintoncompetitie
DTSTAMP:20260419T144607Z
END:VEVENT
BEGIN:VEVENT
UID:69e4ce8fb4d95
DTSTART:20211014T180000Z
SEQUENCE:0
TRANSP:OPAQUE
DTEND:20211014T210000Z
LOCATION:Scheepsboulevard 2\, Helmond
SUMMARY:De Valken 4 - Someren 4
CLASS:PUBLIC
DESCRIPTION:Baan 15  Wedstrijdnr 184
CATEGORIES:badmintoncompetitie
DTSTAMP:20260419T144607Z
END:VEVENT
BEGIN:VEVENT
UID:69e4ce8fb5280
DTSTART:20211103T190000Z
SEQUENCE:0
TRANSP:OPAQUE
DTEND:20211103T220000Z
LOCATION:Scheepsboulevard 2\, Helmond
SUMMARY:De Valken 4 - Ganzeveer 2
CLASS:PUBLIC
DESCRIPTION:Baan 2  Wedstrijdnr 188
CATEGORIES:badmintoncompetitie
DTSTAMP:20260419T144607Z
END:VEVENT
BEGIN:VEVENT
UID:69e4ce8fb56e7
DTSTART:20211124T190000Z
SEQUENCE:0
TRANSP:OPAQUE
DTEND:20211124T220000Z
LOCATION:Scheepsboulevard 2\, Helmond
SUMMARY:Rudra 2 - De Valken 4
CLASS:PUBLIC
DESCRIPTION:Baan 3  Wedstrijdnr 2024
CATEGORIES:badmintoncompetitie
DTSTAMP:20260419T144607Z
END:VEVENT
BEGIN:VEVENT
UID:69e4ce8fb5b63
DTSTART:20220210T190000Z
SEQUENCE:0
TRANSP:OPAQUE
DTEND:20220210T220000Z
LOCATION:Scheepsboulevard 2\, Helmond
SUMMARY:ASML 1 - De Valken 4
CLASS:PUBLIC
DESCRIPTION:Baan 14  Wedstrijdnr 194
CATEGORIES:badmintoncompetitie
DTSTAMP:20260419T144607Z
END:VEVENT
BEGIN:VEVENT
UID:69e4ce8fb5fca
DTSTART:20220223T190000Z
SEQUENCE:0
TRANSP:OPAQUE
DTEND:20220223T220000Z
LOCATION:Scheepsboulevard 2\, Helmond
SUMMARY:Mierlo 7 - De Valken 4
CLASS:PUBLIC
DESCRIPTION:Baan 4  Wedstrijdnr 196
CATEGORIES:badmintoncompetitie
DTSTAMP:20260419T144607Z
END:VEVENT
BEGIN:VEVENT
UID:69e4ce8fb64cb
DTSTART:20220310T190000Z
SEQUENCE:0
TRANSP:OPAQUE
DTEND:20220310T220000Z
LOCATION:Scheepsboulevard 2\, Helmond
SUMMARY:BCAB 2 - De Valken 4
CLASS:PUBLIC
DESCRIPTION:Baan 14  Wedstrijdnr 198
CATEGORIES:badmintoncompetitie
DTSTAMP:20260419T144607Z
END:VEVENT
BEGIN:VEVENT
UID:69e4ce8fb68fc
DTSTART:20220323T190000Z
SEQUENCE:0
TRANSP:OPAQUE
DTEND:20220323T220000Z
LOCATION:Scheepsboulevard 2\, Helmond
SUMMARY:Mixed 6 - De Valken 4
CLASS:PUBLIC
DESCRIPTION:Baan 4  Wedstrijdnr 1180
CATEGORIES:badmintoncompetitie
DTSTAMP:20260419T144607Z
END:VEVENT
BEGIN:VEVENT
UID:69e4ce8fb6d7b
DTSTART:20220407T180000Z
SEQUENCE:0
TRANSP:OPAQUE
DTEND:20220407T210000Z
LOCATION:Scheepsboulevard 2\, Helmond
SUMMARY:Someren 4 - De Valken 4
CLASS:PUBLIC
DESCRIPTION:Baan 11  Wedstrijdnr 1184
CATEGORIES:badmintoncompetitie
DTSTAMP:20260419T144607Z
END:VEVENT
BEGIN:VEVENT
UID:69e4ce8fb725f
DTSTART:20220413T180000Z
SEQUENCE:0
TRANSP:OPAQUE
DTEND:20220413T210000Z
LOCATION:Scheepsboulevard 2\, Helmond
SUMMARY:Ganzeveer 2 - De Valken 4
CLASS:PUBLIC
DESCRIPTION:Baan 13  Wedstrijdnr 1188
CATEGORIES:badmintoncompetitie
DTSTAMP:20260419T144607Z
END:VEVENT
BEGIN:VEVENT
UID:69e4ce8fb76f1
DTSTART:20220602T180000Z
SEQUENCE:0
TRANSP:OPAQUE
DTEND:20220602T210000Z
LOCATION:Scheepsboulevard 2\, Helmond
SUMMARY:De Valken 4 - ASML 1
CLASS:PUBLIC
DESCRIPTION:Baan 3  Wedstrijdnr 1194
CATEGORIES:badmintoncompetitie
DTSTAMP:20260419T144607Z
END:VEVENT
BEGIN:VEVENT
UID:69e4ce8fb7b55
DTSTART:20220608T180000Z
SEQUENCE:0
TRANSP:OPAQUE
DTEND:20220608T210000Z
LOCATION:Scheepsboulevard 2\, Helmond
SUMMARY:De Valken 4 - Mierlo 7
CLASS:PUBLIC
DESCRIPTION:Baan 4  Wedstrijdnr 1196
CATEGORIES:badmintoncompetitie
DTSTAMP:20260419T144607Z
END:VEVENT
BEGIN:VEVENT
UID:69e4ce8fb8037
DTSTART:20220623T180000Z
SEQUENCE:0
TRANSP:OPAQUE
DTEND:20220623T210000Z
LOCATION:Scheepsboulevard 2\, Helmond
SUMMARY:De Valken 4 - BCAB 2
CLASS:PUBLIC
DESCRIPTION:Baan 1  Wedstrijdnr 1198
CATEGORIES:badmintoncompetitie
DTSTAMP:20260419T144607Z
END:VEVENT
END:VCALENDAR