BEGIN:VCALENDAR
VERSION:2.0
PRODID:www.hbbond.nl
X-WR-TIMEZONE:Europe/Amsterdam
BEGIN:VTIMEZONE
TZID:Europe/Amsterdam
X-LIC-LOCATION:Europe/Amsterdam
BEGIN:DAYLIGHT
TZNAME:CEST
TZOFFSETFROM:+0100
TZOFFSETTO:+0200
DTSTART:19810329T030000
RRULE:FREQ=YEARLY;INTERVAL=1;BYMONTH=3;BYDAY=-1SU
END:DAYLIGHT
BEGIN:STANDARD
TZNAME:CET
TZOFFSETFROM:+0200
TZOFFSETTO:+0100
DTSTART:19961027T030000
RRULE:FREQ=YEARLY;INTERVAL=1;BYMONTH=10;BYDAY=-1SU
END:STANDARD
END:VTIMEZONE
BEGIN:VEVENT
UID:69e4ce974e54b
DTSTART:20211006T180000Z
SEQUENCE:0
TRANSP:OPAQUE
DTEND:20211006T210000Z
LOCATION:Scheepsboulevard 2\, Helmond
SUMMARY:Ganzeveer 2 - ASML 1
CLASS:PUBLIC
DESCRIPTION:Baan 5  Wedstrijdnr 181
CATEGORIES:badmintoncompetitie
DTSTAMP:20260419T144615Z
END:VEVENT
BEGIN:VEVENT
UID:69e4ce974f1f4
DTSTART:20211013T180000Z
SEQUENCE:0
TRANSP:OPAQUE
DTEND:20211013T210000Z
LOCATION:Scheepsboulevard 2\, Helmond
SUMMARY:Ganzeveer 2 - Mierlo 7
CLASS:PUBLIC
DESCRIPTION:Baan 12  Wedstrijdnr 185
CATEGORIES:badmintoncompetitie
DTSTAMP:20260419T144615Z
END:VEVENT
BEGIN:VEVENT
UID:69e4ce974f68e
DTSTART:20211103T190000Z
SEQUENCE:0
TRANSP:OPAQUE
DTEND:20211103T220000Z
LOCATION:Scheepsboulevard 2\, Helmond
SUMMARY:De Valken 4 - Ganzeveer 2
CLASS:PUBLIC
DESCRIPTION:Baan 2  Wedstrijdnr 188
CATEGORIES:badmintoncompetitie
DTSTAMP:20260419T144615Z
END:VEVENT
BEGIN:VEVENT
UID:69e4ce974fb8c
DTSTART:20211110T190000Z
SEQUENCE:0
TRANSP:OPAQUE
DTEND:20211110T220000Z
LOCATION:Scheepsboulevard 2\, Helmond
SUMMARY:Mixed 6 - Ganzeveer 2
CLASS:PUBLIC
DESCRIPTION:Baan 5  Wedstrijdnr 191
CATEGORIES:badmintoncompetitie
DTSTAMP:20260419T144615Z
END:VEVENT
BEGIN:VEVENT
UID:69e4ce9750008
DTSTART:20211124T190000Z
SEQUENCE:0
TRANSP:OPAQUE
DTEND:20211124T220000Z
LOCATION:Scheepsboulevard 2\, Helmond
SUMMARY:Geldrop 3 - Ganzeveer 2
CLASS:PUBLIC
DESCRIPTION:Baan 2  Wedstrijdnr 2021
CATEGORIES:badmintoncompetitie
DTSTAMP:20260419T144615Z
END:VEVENT
BEGIN:VEVENT
UID:69e4ce97504c0
DTSTART:20220210T190000Z
SEQUENCE:0
TRANSP:OPAQUE
DTEND:20220210T220000Z
LOCATION:Scheepsboulevard 2\, Helmond
SUMMARY:Someren 4 - Ganzeveer 2
CLASS:PUBLIC
DESCRIPTION:Baan 13  Wedstrijdnr 193
CATEGORIES:badmintoncompetitie
DTSTAMP:20260419T144615Z
END:VEVENT
BEGIN:VEVENT
UID:69e4ce9750a29
DTSTART:20220223T190000Z
SEQUENCE:0
TRANSP:OPAQUE
DTEND:20220223T220000Z
LOCATION:Scheepsboulevard 2\, Helmond
SUMMARY:Ganzeveer 2 - BCAB 2
CLASS:PUBLIC
DESCRIPTION:Baan 3  Wedstrijdnr 195
CATEGORIES:badmintoncompetitie
DTSTAMP:20260419T144615Z
END:VEVENT
BEGIN:VEVENT
UID:69e4ce9750f83
DTSTART:20220323T190000Z
SEQUENCE:0
TRANSP:OPAQUE
DTEND:20220323T220000Z
LOCATION:Scheepsboulevard 2\, Helmond
SUMMARY:ASML 1 - Ganzeveer 2
CLASS:PUBLIC
DESCRIPTION:Baan 5  Wedstrijdnr 1181
CATEGORIES:badmintoncompetitie
DTSTAMP:20260419T144615Z
END:VEVENT
BEGIN:VEVENT
UID:69e4ce97514f8
DTSTART:20220406T180000Z
SEQUENCE:0
TRANSP:OPAQUE
DTEND:20220406T210000Z
LOCATION:Scheepsboulevard 2\, Helmond
SUMMARY:Mierlo 7 - Ganzeveer 2
CLASS:PUBLIC
DESCRIPTION:Baan 13  Wedstrijdnr 1185
CATEGORIES:badmintoncompetitie
DTSTAMP:20260419T144615Z
END:VEVENT
BEGIN:VEVENT
UID:69e4ce9751b0a
DTSTART:20220413T180000Z
SEQUENCE:0
TRANSP:OPAQUE
DTEND:20220413T210000Z
LOCATION:Scheepsboulevard 2\, Helmond
SUMMARY:Ganzeveer 2 - De Valken 4
CLASS:PUBLIC
DESCRIPTION:Baan 13  Wedstrijdnr 1188
CATEGORIES:badmintoncompetitie
DTSTAMP:20260419T144615Z
END:VEVENT
BEGIN:VEVENT
UID:69e4ce9751ffd
DTSTART:20220518T180000Z
SEQUENCE:0
TRANSP:OPAQUE
DTEND:20220518T210000Z
LOCATION:Scheepsboulevard 2\, Helmond
SUMMARY:Ganzeveer 2 - Mixed 6
CLASS:PUBLIC
DESCRIPTION:Baan 11  Wedstrijdnr 1191
CATEGORIES:badmintoncompetitie
DTSTAMP:20260419T144615Z
END:VEVENT
BEGIN:VEVENT
UID:69e4ce975259a
DTSTART:20220525T180000Z
SEQUENCE:0
TRANSP:OPAQUE
DTEND:20220525T210000Z
LOCATION:Scheepsboulevard 2\, Helmond
SUMMARY:Ganzeveer 2 - Someren 4
CLASS:PUBLIC
DESCRIPTION:Baan 3  Wedstrijdnr 1193
CATEGORIES:badmintoncompetitie
DTSTAMP:20260419T144615Z
END:VEVENT
BEGIN:VEVENT
UID:69e4ce9752b4f
DTSTART:20220609T180000Z
SEQUENCE:0
TRANSP:OPAQUE
DTEND:20220609T210000Z
LOCATION:Scheepsboulevard 2\, Helmond
SUMMARY:BCAB 2 - Ganzeveer 2
CLASS:PUBLIC
DESCRIPTION:Baan 1  Wedstrijdnr 1195
CATEGORIES:badmintoncompetitie
DTSTAMP:20260419T144615Z
END:VEVENT
END:VCALENDAR