BEGIN:VCALENDAR
VERSION:2.0
PRODID:www.hbbond.nl
X-WR-TIMEZONE:Europe/Amsterdam
BEGIN:VTIMEZONE
TZID:Europe/Amsterdam
X-LIC-LOCATION:Europe/Amsterdam
BEGIN:DAYLIGHT
TZNAME:CEST
TZOFFSETFROM:+0100
TZOFFSETTO:+0200
DTSTART:19810329T030000
RRULE:FREQ=YEARLY;INTERVAL=1;BYMONTH=3;BYDAY=-1SU
END:DAYLIGHT
BEGIN:STANDARD
TZNAME:CET
TZOFFSETFROM:+0200
TZOFFSETTO:+0100
DTSTART:19961027T030000
RRULE:FREQ=YEARLY;INTERVAL=1;BYMONTH=10;BYDAY=-1SU
END:STANDARD
END:VTIMEZONE
BEGIN:VEVENT
UID:69e4ce96a20e1
DTSTART:20211006T180000Z
SEQUENCE:0
TRANSP:OPAQUE
DTEND:20211006T210000Z
LOCATION:Scheepsboulevard 2\, Helmond
SUMMARY:De Valken 4 - Mixed 6
CLASS:PUBLIC
DESCRIPTION:Baan 4  Wedstrijdnr 180
CATEGORIES:badmintoncompetitie
DTSTAMP:20260419T144614Z
END:VEVENT
BEGIN:VEVENT
UID:69e4ce96a2da8
DTSTART:20211014T180000Z
SEQUENCE:0
TRANSP:OPAQUE
DTEND:20211014T210000Z
LOCATION:Scheepsboulevard 2\, Helmond
SUMMARY:Mixed 6 - BCAB 2
CLASS:PUBLIC
DESCRIPTION:Baan 14  Wedstrijdnr 183
CATEGORIES:badmintoncompetitie
DTSTAMP:20260419T144614Z
END:VEVENT
BEGIN:VEVENT
UID:69e4ce96a32d0
DTSTART:20211104T190000Z
SEQUENCE:0
TRANSP:OPAQUE
DTEND:20211104T220000Z
LOCATION:Scheepsboulevard 2\, Helmond
SUMMARY:Mixed 6 - Someren 4
CLASS:PUBLIC
DESCRIPTION:Baan 5  Wedstrijdnr 187
CATEGORIES:badmintoncompetitie
DTSTAMP:20260419T144614Z
END:VEVENT
BEGIN:VEVENT
UID:69e4ce96a39b7
DTSTART:20211110T190000Z
SEQUENCE:0
TRANSP:OPAQUE
DTEND:20211110T220000Z
LOCATION:Scheepsboulevard 2\, Helmond
SUMMARY:Mixed 6 - Ganzeveer 2
CLASS:PUBLIC
DESCRIPTION:Baan 5  Wedstrijdnr 191
CATEGORIES:badmintoncompetitie
DTSTAMP:20260419T144614Z
END:VEVENT
BEGIN:VEVENT
UID:69e4ce96a4053
DTSTART:20211125T190000Z
SEQUENCE:0
TRANSP:OPAQUE
DTEND:20211125T220000Z
LOCATION:Scheepsboulevard 2\, Helmond
SUMMARY:Hanevoet 3 - Mixed 6
CLASS:PUBLIC
DESCRIPTION:Baan 1  Wedstrijdnr 2022
CATEGORIES:badmintoncompetitie
DTSTAMP:20260419T144614Z
END:VEVENT
BEGIN:VEVENT
UID:69e4ce96a46e6
DTSTART:20220224T190000Z
SEQUENCE:0
TRANSP:OPAQUE
DTEND:20220224T220000Z
LOCATION:Scheepsboulevard 2\, Helmond
SUMMARY:ASML 1 - Mixed 6
CLASS:PUBLIC
DESCRIPTION:Baan 4  Wedstrijdnr 197
CATEGORIES:badmintoncompetitie
DTSTAMP:20260419T144614Z
END:VEVENT
BEGIN:VEVENT
UID:69e4ce96a4c16
DTSTART:20220309T190000Z
SEQUENCE:0
TRANSP:OPAQUE
DTEND:20220309T220000Z
LOCATION:Scheepsboulevard 2\, Helmond
SUMMARY:Mierlo 7 - Mixed 6
CLASS:PUBLIC
DESCRIPTION:Baan 13  Wedstrijdnr 199
CATEGORIES:badmintoncompetitie
DTSTAMP:20260419T144614Z
END:VEVENT
BEGIN:VEVENT
UID:69e4ce96a50de
DTSTART:20220323T190000Z
SEQUENCE:0
TRANSP:OPAQUE
DTEND:20220323T220000Z
LOCATION:Scheepsboulevard 2\, Helmond
SUMMARY:Mixed 6 - De Valken 4
CLASS:PUBLIC
DESCRIPTION:Baan 4  Wedstrijdnr 1180
CATEGORIES:badmintoncompetitie
DTSTAMP:20260419T144614Z
END:VEVENT
BEGIN:VEVENT
UID:69e4ce96a56d1
DTSTART:20220331T180000Z
SEQUENCE:0
TRANSP:OPAQUE
DTEND:20220331T210000Z
LOCATION:Scheepsboulevard 2\, Helmond
SUMMARY:BCAB 2 - Mixed 6
CLASS:PUBLIC
DESCRIPTION:Baan 4  Wedstrijdnr 1183
CATEGORIES:badmintoncompetitie
DTSTAMP:20260419T144614Z
END:VEVENT
BEGIN:VEVENT
UID:69e4ce96a5d46
DTSTART:20220414T180000Z
SEQUENCE:0
TRANSP:OPAQUE
DTEND:20220414T210000Z
LOCATION:Scheepsboulevard 2\, Helmond
SUMMARY:Someren 4 - Mixed 6
CLASS:PUBLIC
DESCRIPTION:Baan 2  Wedstrijdnr 1187
CATEGORIES:badmintoncompetitie
DTSTAMP:20260419T144614Z
END:VEVENT
BEGIN:VEVENT
UID:69e4ce96a6374
DTSTART:20220518T180000Z
SEQUENCE:0
TRANSP:OPAQUE
DTEND:20220518T210000Z
LOCATION:Scheepsboulevard 2\, Helmond
SUMMARY:Ganzeveer 2 - Mixed 6
CLASS:PUBLIC
DESCRIPTION:Baan 11  Wedstrijdnr 1191
CATEGORIES:badmintoncompetitie
DTSTAMP:20260419T144614Z
END:VEVENT
BEGIN:VEVENT
UID:69e4ce96a69df
DTSTART:20220609T180000Z
SEQUENCE:0
TRANSP:OPAQUE
DTEND:20220609T210000Z
LOCATION:Scheepsboulevard 2\, Helmond
SUMMARY:Mixed 6 - ASML 1
CLASS:PUBLIC
DESCRIPTION:Baan 2  Wedstrijdnr 1197
CATEGORIES:badmintoncompetitie
DTSTAMP:20260419T144614Z
END:VEVENT
BEGIN:VEVENT
UID:69e4ce96a6fe1
DTSTART:20220615T180000Z
SEQUENCE:0
TRANSP:OPAQUE
DTEND:20220615T210000Z
LOCATION:Scheepsboulevard 2\, Helmond
SUMMARY:Mixed 6 - Mierlo 7
CLASS:PUBLIC
DESCRIPTION:Baan 12  Wedstrijdnr 1199
CATEGORIES:badmintoncompetitie
DTSTAMP:20260419T144614Z
END:VEVENT
END:VCALENDAR