BEGIN:VCALENDAR
VERSION:2.0
PRODID:www.hbbond.nl
X-WR-TIMEZONE:Europe/Amsterdam
BEGIN:VTIMEZONE
TZID:Europe/Amsterdam
X-LIC-LOCATION:Europe/Amsterdam
BEGIN:DAYLIGHT
TZNAME:CEST
TZOFFSETFROM:+0100
TZOFFSETTO:+0200
DTSTART:19810329T030000
RRULE:FREQ=YEARLY;INTERVAL=1;BYMONTH=3;BYDAY=-1SU
END:DAYLIGHT
BEGIN:STANDARD
TZNAME:CET
TZOFFSETFROM:+0200
TZOFFSETTO:+0100
DTSTART:19961027T030000
RRULE:FREQ=YEARLY;INTERVAL=1;BYMONTH=10;BYDAY=-1SU
END:STANDARD
END:VTIMEZONE
BEGIN:VEVENT
UID:69e4d1d05f2af
DTSTART:20211007T180000Z
SEQUENCE:0
TRANSP:OPAQUE
DTEND:20211007T210000Z
LOCATION:Scheepsboulevard 2\, Helmond
SUMMARY:Mierlo 7 - Someren 4
CLASS:PUBLIC
DESCRIPTION:Baan 2  Wedstrijdnr 182
CATEGORIES:badmintoncompetitie
DTSTAMP:20260419T150000Z
END:VEVENT
BEGIN:VEVENT
UID:69e4d1d06009c
DTSTART:20211013T180000Z
SEQUENCE:0
TRANSP:OPAQUE
DTEND:20211013T210000Z
LOCATION:Scheepsboulevard 2\, Helmond
SUMMARY:Ganzeveer 2 - Mierlo 7
CLASS:PUBLIC
DESCRIPTION:Baan 12  Wedstrijdnr 185
CATEGORIES:badmintoncompetitie
DTSTAMP:20260419T150000Z
END:VEVENT
BEGIN:VEVENT
UID:69e4d1d060712
DTSTART:20211110T190000Z
SEQUENCE:0
TRANSP:OPAQUE
DTEND:20211110T220000Z
LOCATION:Scheepsboulevard 2\, Helmond
SUMMARY:ASML 1 - Mierlo 7
CLASS:PUBLIC
DESCRIPTION:Baan 11  Wedstrijdnr 190
CATEGORIES:badmintoncompetitie
DTSTAMP:20260419T150000Z
END:VEVENT
BEGIN:VEVENT
UID:69e4d1d060d7f
DTSTART:20211125T190000Z
SEQUENCE:0
TRANSP:OPAQUE
DTEND:20211125T220000Z
LOCATION:Scheepsboulevard 2\, Helmond
SUMMARY:ASML 2 - Mierlo 7
CLASS:PUBLIC
DESCRIPTION:Baan 2  Wedstrijdnr 2023
CATEGORIES:badmintoncompetitie
DTSTAMP:20260419T150000Z
END:VEVENT
BEGIN:VEVENT
UID:69e4d1d061325
DTSTART:20220210T190000Z
SEQUENCE:0
TRANSP:OPAQUE
DTEND:20220210T220000Z
LOCATION:Scheepsboulevard 2\, Helmond
SUMMARY:BCAB 2 - Mierlo 7
CLASS:PUBLIC
DESCRIPTION:Baan 12  Wedstrijdnr 192
CATEGORIES:badmintoncompetitie
DTSTAMP:20260419T150000Z
END:VEVENT
BEGIN:VEVENT
UID:69e4d1d061843
DTSTART:20220223T190000Z
SEQUENCE:0
TRANSP:OPAQUE
DTEND:20220223T220000Z
LOCATION:Scheepsboulevard 2\, Helmond
SUMMARY:Mierlo 7 - De Valken 4
CLASS:PUBLIC
DESCRIPTION:Baan 4  Wedstrijdnr 196
CATEGORIES:badmintoncompetitie
DTSTAMP:20260419T150000Z
END:VEVENT
BEGIN:VEVENT
UID:69e4d1d061e40
DTSTART:20220309T190000Z
SEQUENCE:0
TRANSP:OPAQUE
DTEND:20220309T220000Z
LOCATION:Scheepsboulevard 2\, Helmond
SUMMARY:Mierlo 7 - Mixed 6
CLASS:PUBLIC
DESCRIPTION:Baan 13  Wedstrijdnr 199
CATEGORIES:badmintoncompetitie
DTSTAMP:20260419T150000Z
END:VEVENT
BEGIN:VEVENT
UID:69e4d1d0624a8
DTSTART:20220324T190000Z
SEQUENCE:0
TRANSP:OPAQUE
DTEND:20220324T220000Z
LOCATION:Scheepsboulevard 2\, Helmond
SUMMARY:Someren 4 - Mierlo 7
CLASS:PUBLIC
DESCRIPTION:Baan 3  Wedstrijdnr 1182
CATEGORIES:badmintoncompetitie
DTSTAMP:20260419T150000Z
END:VEVENT
BEGIN:VEVENT
UID:69e4d1d0629f8
DTSTART:20220406T180000Z
SEQUENCE:0
TRANSP:OPAQUE
DTEND:20220406T210000Z
LOCATION:Scheepsboulevard 2\, Helmond
SUMMARY:Mierlo 7 - Ganzeveer 2
CLASS:PUBLIC
DESCRIPTION:Baan 13  Wedstrijdnr 1185
CATEGORIES:badmintoncompetitie
DTSTAMP:20260419T150000Z
END:VEVENT
BEGIN:VEVENT
UID:69e4d1d0630b4
DTSTART:20220519T180000Z
SEQUENCE:0
TRANSP:OPAQUE
DTEND:20220519T210000Z
LOCATION:Scheepsboulevard 2\, Helmond
SUMMARY:Mierlo 7 - ASML 1
CLASS:PUBLIC
DESCRIPTION:Baan 5  Wedstrijdnr 1190
CATEGORIES:badmintoncompetitie
DTSTAMP:20260419T150000Z
END:VEVENT
BEGIN:VEVENT
UID:69e4d1d0635ec
DTSTART:20220602T180000Z
SEQUENCE:0
TRANSP:OPAQUE
DTEND:20220602T210000Z
LOCATION:Scheepsboulevard 2\, Helmond
SUMMARY:Mierlo 7 - BCAB 2
CLASS:PUBLIC
DESCRIPTION:Baan 2  Wedstrijdnr 1192
CATEGORIES:badmintoncompetitie
DTSTAMP:20260419T150000Z
END:VEVENT
BEGIN:VEVENT
UID:69e4d1d063a6c
DTSTART:20220608T180000Z
SEQUENCE:0
TRANSP:OPAQUE
DTEND:20220608T210000Z
LOCATION:Scheepsboulevard 2\, Helmond
SUMMARY:De Valken 4 - Mierlo 7
CLASS:PUBLIC
DESCRIPTION:Baan 4  Wedstrijdnr 1196
CATEGORIES:badmintoncompetitie
DTSTAMP:20260419T150000Z
END:VEVENT
BEGIN:VEVENT
UID:69e4d1d063e76
DTSTART:20220615T180000Z
SEQUENCE:0
TRANSP:OPAQUE
DTEND:20220615T210000Z
LOCATION:Scheepsboulevard 2\, Helmond
SUMMARY:Mixed 6 - Mierlo 7
CLASS:PUBLIC
DESCRIPTION:Baan 12  Wedstrijdnr 1199
CATEGORIES:badmintoncompetitie
DTSTAMP:20260419T150000Z
END:VEVENT
END:VCALENDAR