BEGIN:VCALENDAR
VERSION:2.0
PRODID:www.hbbond.nl
X-WR-TIMEZONE:Europe/Amsterdam
BEGIN:VTIMEZONE
TZID:Europe/Amsterdam
X-LIC-LOCATION:Europe/Amsterdam
BEGIN:DAYLIGHT
TZNAME:CEST
TZOFFSETFROM:+0100
TZOFFSETTO:+0200
DTSTART:19810329T030000
RRULE:FREQ=YEARLY;INTERVAL=1;BYMONTH=3;BYDAY=-1SU
END:DAYLIGHT
BEGIN:STANDARD
TZNAME:CET
TZOFFSETFROM:+0200
TZOFFSETTO:+0100
DTSTART:19961027T030000
RRULE:FREQ=YEARLY;INTERVAL=1;BYMONTH=10;BYDAY=-1SU
END:STANDARD
END:VTIMEZONE
BEGIN:VEVENT
UID:69e8754d7a9e2
DTSTART:20190922T073000Z
SEQUENCE:0
TRANSP:OPAQUE
DTEND:20190922T091500Z
LOCATION:Scheepsboulevard 2\, Helmond
SUMMARY:Hanevoet 1 - Hanevoet 2
CLASS:PUBLIC
DESCRIPTION:Baan 11  Wedstrijdnr 
CATEGORIES:badmintoncompetitie
DTSTAMP:20260422T091421Z
END:VEVENT
BEGIN:VEVENT
UID:69e8754d7b4f7
DTSTART:20190922T091500Z
SEQUENCE:0
TRANSP:OPAQUE
DTEND:20190922T110000Z
LOCATION:Scheepsboulevard 2\, Helmond
SUMMARY:Hanevoet 2 - Someren 3
CLASS:PUBLIC
DESCRIPTION:Baan 13  Wedstrijdnr 
CATEGORIES:badmintoncompetitie
DTSTAMP:20260422T091421Z
END:VEVENT
BEGIN:VEVENT
UID:69e8754d7b87c
DTSTART:20191006T073000Z
SEQUENCE:0
TRANSP:OPAQUE
DTEND:20191006T091500Z
LOCATION:Scheepsboulevard 2\, Helmond
SUMMARY:Phoenix 4 - Hanevoet 2
CLASS:PUBLIC
DESCRIPTION:Baan 12  Wedstrijdnr 
CATEGORIES:badmintoncompetitie
DTSTAMP:20260422T091421Z
END:VEVENT
BEGIN:VEVENT
UID:69e8754d7bb8e
DTSTART:20191006T091500Z
SEQUENCE:0
TRANSP:OPAQUE
DTEND:20191006T110000Z
LOCATION:Scheepsboulevard 2\, Helmond
SUMMARY:Mierlo 7 - Hanevoet 2
CLASS:PUBLIC
DESCRIPTION:Baan 12  Wedstrijdnr 
CATEGORIES:badmintoncompetitie
DTSTAMP:20260422T091421Z
END:VEVENT
BEGIN:VEVENT
UID:69e8754d7be9b
DTSTART:20191027T083000Z
SEQUENCE:0
TRANSP:OPAQUE
DTEND:20191027T101500Z
LOCATION:Scheepsboulevard 2\, Helmond
SUMMARY:Hanevoet 2 - Someren 2
CLASS:PUBLIC
DESCRIPTION:Baan 12  Wedstrijdnr 
CATEGORIES:badmintoncompetitie
DTSTAMP:20260422T091421Z
END:VEVENT
BEGIN:VEVENT
UID:69e8754d7c2c8
DTSTART:20191027T101500Z
SEQUENCE:0
TRANSP:OPAQUE
DTEND:20191027T120000Z
LOCATION:Scheepsboulevard 2\, Helmond
SUMMARY:Hanevoet 2 - Hanevoet 1
CLASS:PUBLIC
DESCRIPTION:Baan 11  Wedstrijdnr 
CATEGORIES:badmintoncompetitie
DTSTAMP:20260422T091421Z
END:VEVENT
BEGIN:VEVENT
UID:69e8754d7c67c
DTSTART:20191201T083000Z
SEQUENCE:0
TRANSP:OPAQUE
DTEND:20191201T101500Z
LOCATION:Scheepsboulevard 2\, Helmond
SUMMARY:Someren 3 - Hanevoet 2
CLASS:PUBLIC
DESCRIPTION:Baan 15  Wedstrijdnr 
CATEGORIES:badmintoncompetitie
DTSTAMP:20260422T091421Z
END:VEVENT
BEGIN:VEVENT
UID:69e8754d7c9ee
DTSTART:20191201T101500Z
SEQUENCE:0
TRANSP:OPAQUE
DTEND:20191201T120000Z
LOCATION:Scheepsboulevard 2\, Helmond
SUMMARY:Hanevoet 2 - Phoenix 4
CLASS:PUBLIC
DESCRIPTION:Baan 14  Wedstrijdnr 
CATEGORIES:badmintoncompetitie
DTSTAMP:20260422T091421Z
END:VEVENT
BEGIN:VEVENT
UID:69e8754d7cd3c
DTSTART:20191215T083000Z
SEQUENCE:0
TRANSP:OPAQUE
DTEND:20191215T101500Z
LOCATION:Scheepsboulevard 2\, Helmond
SUMMARY:Hanevoet 2 - Mierlo 7
CLASS:PUBLIC
DESCRIPTION:Baan 12  Wedstrijdnr 
CATEGORIES:badmintoncompetitie
DTSTAMP:20260422T091421Z
END:VEVENT
BEGIN:VEVENT
UID:69e8754d7d179
DTSTART:20191215T101500Z
SEQUENCE:0
TRANSP:OPAQUE
DTEND:20191215T120000Z
LOCATION:Scheepsboulevard 2\, Helmond
SUMMARY:Someren 2 - Hanevoet 2
CLASS:PUBLIC
DESCRIPTION:Baan 12  Wedstrijdnr 
CATEGORIES:badmintoncompetitie
DTSTAMP:20260422T091421Z
END:VEVENT
BEGIN:VEVENT
UID:69e8754d7d625
DTSTART:20200209T083000Z
SEQUENCE:0
TRANSP:OPAQUE
DTEND:20200209T101500Z
LOCATION:Scheepsboulevard 2\, Helmond
SUMMARY:Hanevoet 1 - Hanevoet 2
CLASS:PUBLIC
DESCRIPTION:Baan 5  Wedstrijdnr 
CATEGORIES:badmintoncompetitie
DTSTAMP:20260422T091421Z
END:VEVENT
BEGIN:VEVENT
UID:69e8754d7dad3
DTSTART:20200209T101500Z
SEQUENCE:0
TRANSP:OPAQUE
DTEND:20200209T120000Z
LOCATION:Scheepsboulevard 2\, Helmond
SUMMARY:Hanevoet 2 - Someren 3
CLASS:PUBLIC
DESCRIPTION:Baan 15  Wedstrijdnr 
CATEGORIES:badmintoncompetitie
DTSTAMP:20260422T091421Z
END:VEVENT
BEGIN:VEVENT
UID:69e8754d7de5a
DTSTART:20200322T083000Z
SEQUENCE:0
TRANSP:OPAQUE
DTEND:20200322T101500Z
LOCATION:Scheepsboulevard 2\, Helmond
SUMMARY:Phoenix 4 - Hanevoet 2
CLASS:PUBLIC
DESCRIPTION:Baan 5  Wedstrijdnr 
CATEGORIES:badmintoncompetitie
DTSTAMP:20260422T091421Z
END:VEVENT
BEGIN:VEVENT
UID:69e8754d7e206
DTSTART:20200322T101500Z
SEQUENCE:0
TRANSP:OPAQUE
DTEND:20200322T120000Z
LOCATION:Scheepsboulevard 2\, Helmond
SUMMARY:Mierlo 7 - Hanevoet 2
CLASS:PUBLIC
DESCRIPTION:Baan 5  Wedstrijdnr 
CATEGORIES:badmintoncompetitie
DTSTAMP:20260422T091421Z
END:VEVENT
BEGIN:VEVENT
UID:69e8754d7e57c
DTSTART:20200329T073000Z
SEQUENCE:0
TRANSP:OPAQUE
DTEND:20200329T091500Z
LOCATION:Scheepsboulevard 2\, Helmond
SUMMARY:Hanevoet 2 - Someren 2
CLASS:PUBLIC
DESCRIPTION:Baan 12  Wedstrijdnr 
CATEGORIES:badmintoncompetitie
DTSTAMP:20260422T091421Z
END:VEVENT
END:VCALENDAR