BEGIN:VCALENDAR
VERSION:2.0
PRODID:www.hbbond.nl
X-WR-TIMEZONE:Europe/Amsterdam
BEGIN:VTIMEZONE
TZID:Europe/Amsterdam
X-LIC-LOCATION:Europe/Amsterdam
BEGIN:DAYLIGHT
TZNAME:CEST
TZOFFSETFROM:+0100
TZOFFSETTO:+0200
DTSTART:19810329T030000
RRULE:FREQ=YEARLY;INTERVAL=1;BYMONTH=3;BYDAY=-1SU
END:DAYLIGHT
BEGIN:STANDARD
TZNAME:CET
TZOFFSETFROM:+0200
TZOFFSETTO:+0100
DTSTART:19961027T030000
RRULE:FREQ=YEARLY;INTERVAL=1;BYMONTH=10;BYDAY=-1SU
END:STANDARD
END:VTIMEZONE
BEGIN:VEVENT
UID:69e56cae4d965
DTSTART:20191006T124500Z
SEQUENCE:0
TRANSP:OPAQUE
DTEND:20191006T140000Z
LOCATION:Scheepsboulevard 2\, Helmond
SUMMARY:Bakel 4 - Mixed 4
CLASS:PUBLIC
DESCRIPTION:Baan 11  Wedstrijdnr 
CATEGORIES:badmintoncompetitie
DTSTAMP:20260420T020046Z
END:VEVENT
BEGIN:VEVENT
UID:69e56cae4e6ff
DTSTART:20191110T083000Z
SEQUENCE:0
TRANSP:OPAQUE
DTEND:20191110T101500Z
LOCATION:Scheepsboulevard 2\, Helmond
SUMMARY:Mixed 5 - Bakel 4
CLASS:PUBLIC
DESCRIPTION:Baan 14  Wedstrijdnr 
CATEGORIES:badmintoncompetitie
DTSTAMP:20260420T020046Z
END:VEVENT
BEGIN:VEVENT
UID:69e56cae4eb92
DTSTART:20191110T101500Z
SEQUENCE:0
TRANSP:OPAQUE
DTEND:20191110T120000Z
LOCATION:Scheepsboulevard 2\, Helmond
SUMMARY:Bakel 4 - Mierlo 10
CLASS:PUBLIC
DESCRIPTION:Baan 12  Wedstrijdnr 
CATEGORIES:badmintoncompetitie
DTSTAMP:20260420T020046Z
END:VEVENT
BEGIN:VEVENT
UID:69e56cae4f040
DTSTART:20191124T083000Z
SEQUENCE:0
TRANSP:OPAQUE
DTEND:20191124T101500Z
LOCATION:Scheepsboulevard 2\, Helmond
SUMMARY:Bakel 4 - Phoenix 5
CLASS:PUBLIC
DESCRIPTION:Baan 14  Wedstrijdnr 
CATEGORIES:badmintoncompetitie
DTSTAMP:20260420T020046Z
END:VEVENT
BEGIN:VEVENT
UID:69e56cae4f681
DTSTART:20191124T101500Z
SEQUENCE:0
TRANSP:OPAQUE
DTEND:20191124T120000Z
LOCATION:Scheepsboulevard 2\, Helmond
SUMMARY:Con Brio 1 - Bakel 4
CLASS:PUBLIC
DESCRIPTION:Baan 13  Wedstrijdnr 
CATEGORIES:badmintoncompetitie
DTSTAMP:20260420T020046Z
END:VEVENT
BEGIN:VEVENT
UID:69e56cae4fbf4
DTSTART:20191208T083000Z
SEQUENCE:0
TRANSP:OPAQUE
DTEND:20191208T101500Z
LOCATION:Scheepsboulevard 2\, Helmond
SUMMARY:Ganzeveer 1 - Bakel 4
CLASS:PUBLIC
DESCRIPTION:Baan 12  Wedstrijdnr 
CATEGORIES:badmintoncompetitie
DTSTAMP:20260420T020046Z
END:VEVENT
BEGIN:VEVENT
UID:69e56cae50135
DTSTART:20191208T101500Z
SEQUENCE:0
TRANSP:OPAQUE
DTEND:20191208T120000Z
LOCATION:Scheepsboulevard 2\, Helmond
SUMMARY:Bakel 4 - Hanevoet 3
CLASS:PUBLIC
DESCRIPTION:Baan 13  Wedstrijdnr 
CATEGORIES:badmintoncompetitie
DTSTAMP:20260420T020046Z
END:VEVENT
BEGIN:VEVENT
UID:69e56cae508d3
DTSTART:20191215T101500Z
SEQUENCE:0
TRANSP:OPAQUE
DTEND:20191215T120000Z
LOCATION:Scheepsboulevard 2\, Helmond
SUMMARY:Phoenix 6 - Bakel 4
CLASS:PUBLIC
DESCRIPTION:Baan 15  Wedstrijdnr 
CATEGORIES:badmintoncompetitie
DTSTAMP:20260420T020046Z
END:VEVENT
BEGIN:VEVENT
UID:69e56cae50e5c
DTSTART:20200119T083000Z
SEQUENCE:0
TRANSP:OPAQUE
DTEND:20200119T101500Z
LOCATION:Scheepsboulevard 2\, Helmond
SUMMARY:Bakel 4 - Ganzeveer 1
CLASS:PUBLIC
DESCRIPTION:Baan 11  Wedstrijdnr 
CATEGORIES:badmintoncompetitie
DTSTAMP:20260420T020046Z
END:VEVENT
BEGIN:VEVENT
UID:69e56cae513ff
DTSTART:20200119T101500Z
SEQUENCE:0
TRANSP:OPAQUE
DTEND:20200119T120000Z
LOCATION:Scheepsboulevard 2\, Helmond
SUMMARY:Mierlo 10 - Bakel 4
CLASS:PUBLIC
DESCRIPTION:Baan 11  Wedstrijdnr 
CATEGORIES:badmintoncompetitie
DTSTAMP:20260420T020046Z
END:VEVENT
BEGIN:VEVENT
UID:69e56cae51990
DTSTART:20200308T083000Z
SEQUENCE:0
TRANSP:OPAQUE
DTEND:20200308T101500Z
LOCATION:Scheepsboulevard 2\, Helmond
SUMMARY:Hanevoet 3 - Bakel 4
CLASS:PUBLIC
DESCRIPTION:Baan 11  Wedstrijdnr 
CATEGORIES:badmintoncompetitie
DTSTAMP:20260420T020046Z
END:VEVENT
BEGIN:VEVENT
UID:69e56cae52079
DTSTART:20200308T101500Z
SEQUENCE:0
TRANSP:OPAQUE
DTEND:20200308T120000Z
LOCATION:Scheepsboulevard 2\, Helmond
SUMMARY:Phoenix 5 - Bakel 4
CLASS:PUBLIC
DESCRIPTION:Baan 11  Wedstrijdnr 
CATEGORIES:badmintoncompetitie
DTSTAMP:20260420T020046Z
END:VEVENT
BEGIN:VEVENT
UID:69e56cae528ae
DTSTART:20200322T083000Z
SEQUENCE:0
TRANSP:OPAQUE
DTEND:20200322T101500Z
LOCATION:Scheepsboulevard 2\, Helmond
SUMMARY:Ganzeveer 1 - Bakel 4
CLASS:PUBLIC
DESCRIPTION:Baan 12  Wedstrijdnr 
CATEGORIES:badmintoncompetitie
DTSTAMP:20260420T020046Z
END:VEVENT
BEGIN:VEVENT
UID:69e56cae52f5d
DTSTART:20200322T101500Z
SEQUENCE:0
TRANSP:OPAQUE
DTEND:20200322T120000Z
LOCATION:Scheepsboulevard 2\, Helmond
SUMMARY:Bakel 4 - Hanevoet 3
CLASS:PUBLIC
DESCRIPTION:Baan 12  Wedstrijdnr 
CATEGORIES:badmintoncompetitie
DTSTAMP:20260420T020046Z
END:VEVENT
BEGIN:VEVENT
UID:69e56cae53426
DTSTART:20200329T073000Z
SEQUENCE:0
TRANSP:OPAQUE
DTEND:20200329T091500Z
LOCATION:Scheepsboulevard 2\, Helmond
SUMMARY:Bakel 4 - Mierlo 10
CLASS:PUBLIC
DESCRIPTION:Baan 9  Wedstrijdnr 
CATEGORIES:badmintoncompetitie
DTSTAMP:20260420T020046Z
END:VEVENT
BEGIN:VEVENT
UID:69e56cae538a8
DTSTART:20200329T091500Z
SEQUENCE:0
TRANSP:OPAQUE
DTEND:20200329T110000Z
LOCATION:Scheepsboulevard 2\, Helmond
SUMMARY:Bakel 4 - Phoenix 5
CLASS:PUBLIC
DESCRIPTION:Baan 9  Wedstrijdnr 
CATEGORIES:badmintoncompetitie
DTSTAMP:20260420T020046Z
END:VEVENT
END:VCALENDAR