BEGIN:VCALENDAR
VERSION:2.0
PRODID:www.hbbond.nl
X-WR-TIMEZONE:Europe/Amsterdam
BEGIN:VTIMEZONE
TZID:Europe/Amsterdam
X-LIC-LOCATION:Europe/Amsterdam
BEGIN:DAYLIGHT
TZNAME:CEST
TZOFFSETFROM:+0100
TZOFFSETTO:+0200
DTSTART:19810329T030000
RRULE:FREQ=YEARLY;INTERVAL=1;BYMONTH=3;BYDAY=-1SU
END:DAYLIGHT
BEGIN:STANDARD
TZNAME:CET
TZOFFSETFROM:+0200
TZOFFSETTO:+0100
DTSTART:19961027T030000
RRULE:FREQ=YEARLY;INTERVAL=1;BYMONTH=10;BYDAY=-1SU
END:STANDARD
END:VTIMEZONE
BEGIN:VEVENT
UID:69e7993d85144
DTSTART:20150923T180000Z
SEQUENCE:0
TRANSP:OPAQUE
DTEND:20150923T210000Z
LOCATION:Scheepsboulevard 2\, Helmond
SUMMARY:Dommelen 1 - Fair Play 2
CLASS:PUBLIC
DESCRIPTION:Baan 4  Wedstrijdnr 122
CATEGORIES:badmintoncompetitie
DTSTAMP:20260421T173525Z
END:VEVENT
BEGIN:VEVENT
UID:69e7993d85b89
DTSTART:20150930T180000Z
SEQUENCE:0
TRANSP:OPAQUE
DTEND:20150930T210000Z
LOCATION:Scheepsboulevard 2\, Helmond
SUMMARY:Con Brio 5 - Dommelen 1
CLASS:PUBLIC
DESCRIPTION:Baan 14  Wedstrijdnr 124
CATEGORIES:badmintoncompetitie
DTSTAMP:20260421T173525Z
END:VEVENT
BEGIN:VEVENT
UID:69e7993d85ef4
DTSTART:20151014T180000Z
SEQUENCE:0
TRANSP:OPAQUE
DTEND:20151014T210000Z
LOCATION:Scheepsboulevard 2\, Helmond
SUMMARY:Dommelen 1 - Boemerang 2
CLASS:PUBLIC
DESCRIPTION:Baan 14  Wedstrijdnr 127
CATEGORIES:badmintoncompetitie
DTSTAMP:20260421T173525Z
END:VEVENT
BEGIN:VEVENT
UID:69e7993d862aa
DTSTART:20151125T190000Z
SEQUENCE:0
TRANSP:OPAQUE
DTEND:20151125T220000Z
LOCATION:Scheepsboulevard 2\, Helmond
SUMMARY:Gemert 3 - Dommelen 1
CLASS:PUBLIC
DESCRIPTION:Baan 1  Wedstrijdnr 133
CATEGORIES:badmintoncompetitie
DTSTAMP:20260421T173525Z
END:VEVENT
BEGIN:VEVENT
UID:69e7993d8660c
DTSTART:20151202T190000Z
SEQUENCE:0
TRANSP:OPAQUE
DTEND:20151202T220000Z
LOCATION:Scheepsboulevard 2\, Helmond
SUMMARY:Dommelen 1 - Sm Bruang 3
CLASS:PUBLIC
DESCRIPTION:Baan 13  Wedstrijdnr 136
CATEGORIES:badmintoncompetitie
DTSTAMP:20260421T173525Z
END:VEVENT
BEGIN:VEVENT
UID:69e7993d869fc
DTSTART:20151216T190000Z
SEQUENCE:0
TRANSP:OPAQUE
DTEND:20151216T220000Z
LOCATION:Scheepsboulevard 2\, Helmond
SUMMARY:Phoenix 3 - Dommelen 1
CLASS:PUBLIC
DESCRIPTION:Baan 4  Wedstrijdnr 140
CATEGORIES:badmintoncompetitie
DTSTAMP:20260421T173525Z
END:VEVENT
BEGIN:VEVENT
UID:69e7993d86d32
DTSTART:20160113T190000Z
SEQUENCE:0
TRANSP:OPAQUE
DTEND:20160113T220000Z
LOCATION:Scheepsboulevard 2\, Helmond
SUMMARY:Fair Play 2 - Dommelen 1
CLASS:PUBLIC
DESCRIPTION:Baan 1  Wedstrijdnr 1122
CATEGORIES:badmintoncompetitie
DTSTAMP:20260421T173525Z
END:VEVENT
BEGIN:VEVENT
UID:69e7993d87074
DTSTART:20160120T190000Z
SEQUENCE:0
TRANSP:OPAQUE
DTEND:20160120T220000Z
LOCATION:Scheepsboulevard 2\, Helmond
SUMMARY:Dommelen 1 - Con Brio 5
CLASS:PUBLIC
DESCRIPTION:Baan 14  Wedstrijdnr 1124
CATEGORIES:badmintoncompetitie
DTSTAMP:20260421T173525Z
END:VEVENT
BEGIN:VEVENT
UID:69e7993d87481
DTSTART:20160203T190000Z
SEQUENCE:0
TRANSP:OPAQUE
DTEND:20160203T220000Z
LOCATION:Scheepsboulevard 2\, Helmond
SUMMARY:Boemerang 2 - Dommelen 1
CLASS:PUBLIC
DESCRIPTION:Baan 11  Wedstrijdnr 1127
CATEGORIES:badmintoncompetitie
DTSTAMP:20260421T173525Z
END:VEVENT
BEGIN:VEVENT
UID:69e7993d877e5
DTSTART:20160309T190000Z
SEQUENCE:0
TRANSP:OPAQUE
DTEND:20160309T220000Z
LOCATION:Scheepsboulevard 2\, Helmond
SUMMARY:Dommelen 1 - Gemert 3
CLASS:PUBLIC
DESCRIPTION:Baan 3  Wedstrijdnr 1133
CATEGORIES:badmintoncompetitie
DTSTAMP:20260421T173525Z
END:VEVENT
BEGIN:VEVENT
UID:69e7993d87b41
DTSTART:20160323T190000Z
SEQUENCE:0
TRANSP:OPAQUE
DTEND:20160323T220000Z
LOCATION:Scheepsboulevard 2\, Helmond
SUMMARY:Sm Bruang 3 - Dommelen 1
CLASS:PUBLIC
DESCRIPTION:Baan 11  Wedstrijdnr 1136
CATEGORIES:badmintoncompetitie
DTSTAMP:20260421T173525Z
END:VEVENT
BEGIN:VEVENT
UID:69e7993d87e3e
DTSTART:20160406T180000Z
SEQUENCE:0
TRANSP:OPAQUE
DTEND:20160406T210000Z
LOCATION:Scheepsboulevard 2\, Helmond
SUMMARY:Dommelen 1 - Phoenix 3
CLASS:PUBLIC
DESCRIPTION:Baan 4  Wedstrijdnr 1140
CATEGORIES:badmintoncompetitie
DTSTAMP:20260421T173525Z
END:VEVENT
END:VCALENDAR