BEGIN:VCALENDAR
VERSION:2.0
PRODID:www.hbbond.nl
X-WR-TIMEZONE:Europe/Amsterdam
BEGIN:VTIMEZONE
TZID:Europe/Amsterdam
X-LIC-LOCATION:Europe/Amsterdam
BEGIN:DAYLIGHT
TZNAME:CEST
TZOFFSETFROM:+0100
TZOFFSETTO:+0200
DTSTART:19810329T030000
RRULE:FREQ=YEARLY;INTERVAL=1;BYMONTH=3;BYDAY=-1SU
END:DAYLIGHT
BEGIN:STANDARD
TZNAME:CET
TZOFFSETFROM:+0200
TZOFFSETTO:+0100
DTSTART:19961027T030000
RRULE:FREQ=YEARLY;INTERVAL=1;BYMONTH=10;BYDAY=-1SU
END:STANDARD
END:VTIMEZONE
BEGIN:VEVENT
UID:69e67d2497b40
DTSTART:20241208T113000Z
SEQUENCE:0
TRANSP:OPAQUE
DTEND:20241208T113400Z
LOCATION:Scheepsboulevard 2\, Helmond
SUMMARY:Gemert 3 - Mierlo 3
CLASS:PUBLIC
DESCRIPTION:Baan 12\, Wedstrijdnr 175
CATEGORIES:Badmintoncompetitie
DTSTAMP:20260420T212316Z
END:VEVENT
END:VCALENDAR