BEGIN:VCALENDAR
VERSION:2.0
PRODID:www.hbbond.nl
X-WR-TIMEZONE:Europe/Amsterdam
BEGIN:VTIMEZONE
TZID:Europe/Amsterdam
X-LIC-LOCATION:Europe/Amsterdam
BEGIN:DAYLIGHT
TZNAME:CEST
TZOFFSETFROM:+0100
TZOFFSETTO:+0200
DTSTART:19810329T030000
RRULE:FREQ=YEARLY;INTERVAL=1;BYMONTH=3;BYDAY=-1SU
END:DAYLIGHT
BEGIN:STANDARD
TZNAME:CET
TZOFFSETFROM:+0200
TZOFFSETTO:+0100
DTSTART:19961027T030000
RRULE:FREQ=YEARLY;INTERVAL=1;BYMONTH=10;BYDAY=-1SU
END:STANDARD
END:VTIMEZONE
BEGIN:VEVENT
UID:69e9398830e97
DTSTART:20221009T073000Z
SEQUENCE:0
TRANSP:OPAQUE
DTEND:20221009T091500Z
LOCATION:Scheepsboulevard 2\, Helmond
SUMMARY:Con Brio 1 - Mixed 3
CLASS:PUBLIC
DESCRIPTION:Baan 5\, Wedstrijdnr 16
CATEGORIES:Badmintoncompetitie
DTSTAMP:20260422T231136Z
END:VEVENT
END:VCALENDAR